0.00000000000000
0.09000000000000
0.09000000000000
-0.00000000000000
672200.32570998161000
251000.82295913019000
