-0.00000000000000
-0.09000000000000
-0.09000000000000
0.00000000000000
672839.67429001839000
237235.17704086981000
