-0.00000000000000
-0.09000000000000
-0.09000000000000
0.00000000000000
672843.67429001839000
239311.17704086981000
