0.00000000000000
0.09000000000000
0.09000000000000
-0.00000000000000
669998.32570998161000
251706.82295913019000
