-0.08457233587073
-0.03078181289931
-0.03078181289931
0.08457233587073
695083.97496423963000
223973.63249833527000
