-0.00000000000000
-0.09000000000000
-0.09000000000000
0.00000000000000
703498.67429001839000
232868.17704086981000
