-0.00000000000000
-0.09000000000000
-0.09000000000000
0.00000000000000
703510.67429001839000
236178.17704086981000
