0.00000000000000
0.09000000000000
0.09000000000000
-0.00000000000000
701739.32570998161000
240156.82295913019000
