0.00000000000000
0.09000000000000
0.09000000000000
-0.00000000000000
701735.32570998161000
241263.82295913019000
