0.00000000000000
0.09000000000000
0.09000000000000
-0.00000000000000
701731.32570998161000
241859.82295913019000
