-0.00000000000000
-0.09000000000000
-0.09000000000000
0.00000000000000
703490.67429001839000
252252.17704086981000
