0.00000000000000
0.09000000000000
0.09000000000000
-0.00000000000000
700609.45486900699000
231372.80593004977000
