0.00000000000000
0.09000000000000
0.09000000000000
-0.00000000000000
700582.45486900699000
232768.80593004977000
