0.00000000000000
0.09000000000000
0.09000000000000
-0.00000000000000
700592.45486900699000
240305.80593004977000
