0.00000000000000
0.09000000000000
0.09000000000000
-0.00000000000000
700585.45486900699000
241000.80593004977000
