0.00000000000000
0.09000000000000
0.09000000000000
-0.00000000000000
700589.45486900699000
243053.80593004977000
