0.00000000000000
0.09000000000000
0.09000000000000
-0.00000000000000
700585.45486900699000
243692.80593004977000
