0.00000000000000
0.09000000000000
0.09000000000000
-0.00000000000000
700588.45486900699000
248748.80593004977000
