0.00000000000000
0.09000000000000
0.09000000000000
-0.00000000000000
700592.45486900699000
249907.80593004977000
