-0.00000000000000
-0.09000000000000
-0.09000000000000
0.00000000000000
701282.67429001839000
238064.17704086981000
