-0.00000000000000
-0.09000000000000
-0.09000000000000
0.00000000000000
701269.67429001839000
239929.17704086981000
