-0.00000000000000
-0.09000000000000
-0.09000000000000
0.00000000000000
701282.67429001839000
241173.17704086981000
