-0.00000000000000
-0.09000000000000
-0.09000000000000
0.00000000000000
701288.67429001839000
242348.17704086981000
