-0.00000000000000
-0.09000000000000
-0.09000000000000
0.00000000000000
701268.67429001839000
244070.17704086981000
