-0.00000000000000
-0.09000000000000
-0.09000000000000
0.00000000000000
701292.67429001839000
249980.17704086981000
