-0.00000000000000
-0.09000000000000
-0.09000000000000
0.00000000000000
701300.67429001839000
253345.17704086981000
