0.00000000000000
0.09000000000000
0.09000000000000
-0.00000000000000
698461.32570998161000
232734.82295913019000
