0.00000000000000
0.09000000000000
0.09000000000000
-0.00000000000000
698442.32570998161000
234067.82295913019000
