0.00000000000000
0.09000000000000
0.09000000000000
-0.00000000000000
698448.32570998161000
236091.82295913019000
