0.00000000000000
0.09000000000000
0.09000000000000
-0.00000000000000
698450.32570998161000
244156.82295913019000
