0.00000000000000
0.09000000000000
0.09000000000000
-0.00000000000000
698458.32570998161000
250903.82295913019000
