-0.00000000000000
-0.09000000000000
-0.09000000000000
0.00000000000000
699081.67429001839000
233789.17704086981000
