-0.00000000000000
-0.09000000000000
-0.09000000000000
0.00000000000000
699094.67429001839000
235092.17704086981000
