-0.00000000000000
-0.09000000000000
-0.09000000000000
0.00000000000000
699097.67429001839000
235740.17704086981000
