-0.00000000000000
-0.09000000000000
-0.09000000000000
0.00000000000000
699071.67429001839000
239570.17704086981000
