-0.00000000000000
-0.09000000000000
-0.09000000000000
0.00000000000000
699088.67429001839000
241495.17704086981000
