-0.00000000000000
-0.09000000000000
-0.09000000000000
0.00000000000000
699087.67429001839000
250244.17704086981000
