0.00000000000000
0.09000000000000
0.09000000000000
-0.00000000000000
696239.32570998161000
235616.82295913019000
