0.00000000000000
0.09000000000000
0.09000000000000
-0.00000000000000
696230.32570998161000
236252.82295913019000
