0.00000000000000
0.09000000000000
0.09000000000000
-0.00000000000000
696225.32570998161000
237514.82295913019000
