0.00000000000000
0.09000000000000
0.09000000000000
-0.00000000000000
696232.32570998161000
241873.82295913019000
