0.00000000000000
0.09000000000000
0.09000000000000
-0.00000000000000
696255.32570998161000
244888.82295913019000
