-0.00000000000000
-0.09000000000000
-0.09000000000000
0.00000000000000
696903.67429001839000
229615.17704086981000
