-0.00000000000000
-0.09000000000000
-0.09000000000000
0.00000000000000
696856.67429001839000
241297.17704086981000
