0.00000000000000
0.09000000000000
0.09000000000000
-0.00000000000000
694045.32570998161000
225507.82295913019000
