0.00000000000000
0.09000000000000
0.09000000000000
-0.00000000000000
694053.32570998161000
233371.82295913019000
