0.00000000000000
0.09000000000000
0.09000000000000
-0.00000000000000
694033.32570998161000
240465.82295913019000
