0.00000000000000
0.09000000000000
0.09000000000000
-0.00000000000000
694046.32570998161000
245494.82295913019000
