0.00000000000000
0.09000000000000
0.09000000000000
-0.00000000000000
694048.32570998161000
248894.82295913019000
