-0.00000000000000
-0.09000000000000
-0.09000000000000
0.00000000000000
694685.67429001839000
227592.17704086981000
